Workbook
Name 可能: #REF!
Name 労務比率: [1]設定シート!$C$45:$N$53

Sheet 一括有期事業総括表.算定基礎賃金等の報告
C1: 組機様式第8号 | FO1: 頁
C3: 住所 | N3: 〒 | X3: - | CR3: 労働保険等 | DS3: 一括有期事業総括表
DS6: 算定基礎賃金等の報告
BZ7: 労働保険番号
BZ9: 府 県 | CJ9: 所掌 | CO9: 管 轄 | CY9: 基 幹 番 号 | EI9: 枝 番
C10: 事業場名
BZ11: 1 | CE11: 7 | CJ11: 1 | CO11: 0 | CT11: 1 | CY11: 9 | DE11: 3 | DL11: 0 | DS11: 5 | DY11: 5 | ED11: 5
C13: 事業主名 | BB13: 殿
BZ16: 事務組合名 | CQ16: 労働保険事務組合美川商工会
AC17: 事業場TEL | CQ17: （TEL：076－204－6818） | FI17: 0 | FM17: 0
C19: 業種 | G19: 事 業 の 種 類 | AC19: 開始 | AG19: 1.請 負 金 額 | BQ19: 労務 | BY19: ２.賃 金 総 額 | DA19: 労 災 | DK19: メリット | DU19: 保 険 料 等 | FE19: 3.一括有期 事業報告書 | FR19: 枚添付
C21: 番号 | AC21: 時期 | BQ21: 費率 | DA21: 保険率等 | DK21: 料率
AC23: *1 | AG23: 円 | BY23: 千円 | DU23: 円
A24: =C24 -> 31 | B24: 2 | C24: 31 | G24: 建 設 業 | K24: 水力発電施設 ずい道等新設 事業 | AC24: ① | BQ24: 18 | BY24: =ROUNDDOWN(AG24*(BQ24/100)/1000,0) -> 0 | DA24: 89 | DU24: =ROUNDDOWN(IF(DK24="",BY24*DA24,BY24*DK24),0) -> 0 | FE24: 4.常時使用労働者数
AC26: ② | BQ26: 19 | BY26: =ROUNDDOWN(AG26*(BQ26/100)/1000,0) -> 0 | DA26: 79 | DU26: =ROUNDDOWN(IF(DK26="",BY26*DA26,BY26*DK26),0) -> 0
AC28: ③ | BQ28: 19 | BY28: =ROUNDDOWN(AG28*(BQ28/100)/1000,0) -> 0 | DA28: 62 | DU28: =ROUNDDOWN(IF(DK28="",BY28*DA28,BY28*DK28),0) -> 0 | FS28: 人
AC30: ④ | BQ30: 19 | BY30: =ROUNDDOWN(AG30*(BQ30/100)/1000,0) -> 0 | DA30: 34 | DU30: =ROUNDDOWN(IF(DK30="",BY30*DA30,BY30*DK30),0) -> 0
FE31: 5.事業の概要
A32: =C32 -> 32 | B32: 3 | C32: 32 | K32: 道路新設事業 | AC32: ① | BQ32: 20 | BY32: =ROUNDDOWN(AG32*(BQ32/100)/1000,0) -> 0 | DA32: 16 | DU32: =ROUNDDOWN(IF(DK32="",BY32*DA32,BY32*DK32),0) -> 0
AC34: ② | BQ34: 20 | BY34: =ROUNDDOWN(AG34*(BQ34/100)/1000,0) -> 0 | DA34: 11 | DU34: =ROUNDDOWN(IF(DK34="",BY34*DA34,BY34*DK34),0) -> 0
AC36: ③ | BQ36: 19 | BY36: =ROUNDDOWN(AG36*(BQ36/100)/1000,0) -> 0 | DA36: 11 | DU36: =ROUNDDOWN(IF(DK36="",BY36*DA36,BY36*DK36),0) -> 0
AC38: ④ | BQ38: 19 | BY38: =ROUNDDOWN(AG38*(BQ38/100)/1000,0) -> 0 | DA38: 11 | DU38: =ROUNDDOWN(IF(DK38="",BY38*DA38,BY38*DK38),0) -> 0 | FE38: 6.新年度賃金見込額
A40: =C40 -> 33 | B40: 4 | C40: 33 | K40: 舗装工事業 | AC40: ① | BQ40: 18 | BY40: =ROUNDDOWN(AG40*(BQ40/100)/1000,0) -> 0 | DA40: 10 | DU40: =ROUNDDOWN(IF(DK40="",BY40*DA40,BY40*DK40),0) -> 0 | FF40: 1.前年度と同額
AC42: ② | BQ42: 18 | BY42: =ROUNDDOWN(AG42*(BQ42/100)/1000,0) -> 0 | DA42: 9 | DU42: =ROUNDDOWN(IF(DK42="",BY42*DA42,BY42*DK42),0) -> 0 | FF42: 2.前年度と変わる
AC44: ③ | BQ44: 17 | BY44: =ROUNDDOWN(AG44*(BQ44/100)/1000,0) -> 0 | DA44: 9 | DU44: =ROUNDDOWN(IF(DK44="",BY44*DA44,BY44*DK44),0) -> 0 | FQ44: 千円
AC46: ④ | BQ46: 17 | BY46: =ROUNDDOWN(AG46*(BQ46/100)/1000,0) -> 0 | DA46: 9 | DU46: =ROUNDDOWN(IF(DK46="",BY46*DA46,BY46*DK46),0) -> 0
A48: =C48 -> 34 | B48: 5 | C48: 34 | K48: 鉄道又は軌道 新設事業 | AC48: ① | BQ48: 23 | BY48: =ROUNDDOWN(AG48*(BQ48/100)/1000,0) -> 0 | DA48: 17 | DU48: =ROUNDDOWN(IF(DK48="",BY48*DA48,BY48*DK48),0) -> 0
AC50: ② | BQ50: 25 | BY50: =ROUNDDOWN(AG50*(BQ50/100)/1000,0) -> 0 | DA50: 9.5 | DU50: =ROUNDDOWN(IF(DK50="",BY50*DA50,BY50*DK50),0) -> 0 | FF50: =IF(FI17=3,"③","3") &".委託解除年月日" -> 3.委託解除年月日
AC52: ③ | BQ52: 24 | BY52: =ROUNDDOWN(AG52*(BQ52/100)/1000,0) -> 0 | DA52: 9 | DU52: =ROUNDDOWN(IF(DK52="",BY52*DA52,BY52*DK52),0) -> 0 | FH52: 年 | FN52: 月 | FS52: 日
AC54: ④ | BQ54: 19 | BY54: =ROUNDDOWN(AG54*(BQ54/100)/1000,0) -> 0 | DA54: 9 | DU54: =ROUNDDOWN(IF(DK54="",BY54*DA54,BY54*DK54),0) -> 0
A56: =C56 -> 35 | B56: 6 | C56: 35 | K56: 建築事業 | AC56: ① | BQ56: 21 | BY56: =ROUNDDOWN(AG56*(BQ56/100)/1000,0) -> 0 | DA56: 13 | DU56: =ROUNDDOWN(IF(DK56="",BY56*DA56,BY56*DK56),0) -> 0
FF57: =IF(FI17=4,"④","4")&".委託解除拠出金納付済" -> 4.委託解除拠出金納付済
AC58: ② | BQ58: 23 | BY58: =ROUNDDOWN(AG58*(BQ58/100)/1000,0) -> 0 | DA58: 11 | DU58: =ROUNDDOWN(IF(DK58="",BY58*DA58,BY58*DK58),0) -> 0
AC60: ③ | BQ60: 23 | BY60: =ROUNDDOWN(AG60*(BQ60/100)/1000,0) -> 0 | DA60: 9.5 | DU60: =ROUNDDOWN(IF(DK60="",BY60*DA60,BY60*DK60),0) -> 0 | FE60: 7.延納の申請
AC62: ④ | BQ62: 23 | BY62: =ROUNDDOWN(AG62*(BQ62/100)/1000,0) -> 0 | DA62: 9.5 | DU62: =ROUNDDOWN(IF(DK62="",BY62*DA62,BY62*DK62),0) -> 0
FF63: 1.一括納付
A64: =C64 -> 38 | B64: 7 | C64: 38 | K64: 既設建築物設備 工事業 | AC64: ① | BQ64: 22 | BY64: =ROUNDDOWN(AG64*(BQ64/100)/1000,0) -> 0 | DA64: 15 | DU64: =ROUNDDOWN(IF(DK64="",BY64*DA64,BY64*DK64),0) -> 0
AC66: ② | BQ66: 23 | BY66: =ROUNDDOWN(AG66*(BQ66/100)/1000,0) -> 0 | DA66: 15 | DU66: =ROUNDDOWN(IF(DK66="",BY66*DA66,BY66*DK66),0) -> 0 | FF66: 2.分納（３回）
AC68: ③ | BQ68: 23 | BY68: =ROUNDDOWN(AG68*(BQ68/100)/1000,0) -> 0 | DA68: 12 | DU68: =ROUNDDOWN(IF(DK68="",BY68*DA68,BY68*DK68),0) -> 0
AC70: ④ | BQ70: 23 | BY70: =ROUNDDOWN(AG70*(BQ70/100)/1000,0) -> 0 | DA70: 12 | DU70: =ROUNDDOWN(IF(DK70="",BY70*DA70,BY70*DK70),0) -> 0
...

Sheet 特別加入の計算のためのシート
A1: 確定
A4: № | B4: 特別加入者の 氏名 | C4: 承認された 基礎日額 | D4: 昨年度の 適用月数 | E4: 保険料算定基礎額
A5: 1 | B5: =一括有期事業総括表.算定基礎賃金等の報告!C113 -> 0 | C5: =一括有期事業総括表.算定基礎賃金等の報告!V114 -> 0 | D5: =一括有期事業総括表.算定基礎賃金等の報告!AE113 -> 0 | E5: =IF(B5=0,0,IF(D5=12,C5*365,ROUNDUP(C5*365/12,0)*D5)) -> 0
A6: 2 | B6: =一括有期事業総括表.算定基礎賃金等の報告!C116 -> 0 | C6: =一括有期事業総括表.算定基礎賃金等の報告!V117 -> 0 | D6: =一括有期事業総括表.算定基礎賃金等の報告!AE116 -> 0 | E6: =IF(ISBLANK(B6),0,IF(D6=12,C6*365,ROUNDUP(C6*365/12,0)*D6)) -> 0
A7: 3 | B7: =一括有期事業総括表.算定基礎賃金等の報告!C119 -> 0 | C7: =一括有期事業総括表.算定基礎賃金等の報告!V120 -> 0 | D7: =一括有期事業総括表.算定基礎賃金等の報告!AE119 -> 0 | E7: =IF(ISBLANK(B7),0,IF(D7=12,C7*365,ROUNDUP(C7*365/12,0)*D7)) -> 0
A8: 4 | B8: =一括有期事業総括表.算定基礎賃金等の報告!C122 -> 0 | C8: =一括有期事業総括表.算定基礎賃金等の報告!V123 -> 0 | D8: =一括有期事業総括表.算定基礎賃金等の報告!AE122 -> 0 | E8: =IF(ISBLANK(B8),0,IF(D8=12,C8*365,ROUNDUP(C8*365/12,0)*D8)) -> 0
A9: 5 | B9: =一括有期事業総括表.算定基礎賃金等の報告!BC113 -> 0 | C9: =一括有期事業総括表.算定基礎賃金等の報告!CD114 -> 0 | D9: =一括有期事業総括表.算定基礎賃金等の報告!CP113 -> 0 | E9: =IF(ISBLANK(B9),0,IF(D9=12,C9*365,ROUNDUP(C9*365/12,0)*D9)) -> 0
A10: 6 | B10: =一括有期事業総括表.算定基礎賃金等の報告!BC116 -> 0 | C10: =一括有期事業総括表.算定基礎賃金等の報告!CD117 -> 0 | D10: =一括有期事業総括表.算定基礎賃金等の報告!CP116 -> 0 | E10: =IF(ISBLANK(B10),0,IF(D10=12,C10*365,ROUNDUP(C10*365/12,0)*D10)) -> 0
A11: 7 | B11: =一括有期事業総括表.算定基礎賃金等の報告!BC119 -> 0 | C11: =一括有期事業総括表.算定基礎賃金等の報告!CD120 -> 0 | D11: =一括有期事業総括表.算定基礎賃金等の報告!CP119 -> 0 | E11: =IF(ISBLANK(B11),0,IF(D11=12,C11*365,ROUNDUP(C11*365/12,0)*D11)) -> 0
A12: 8 | B12: =一括有期事業総括表.算定基礎賃金等の報告!BC122 -> 0 | C12: =一括有期事業総括表.算定基礎賃金等の報告!CD123 -> 0 | D12: =一括有期事業総括表.算定基礎賃金等の報告!CP122 -> 0 | E12: =IF(ISBLANK(B12),0,IF(D12=12,C12*365,ROUNDUP(C12*365/12,0)*D12)) -> 0
A13: 9 | B13: =一括有期事業総括表.算定基礎賃金等の報告!DU113 -> 0 | C13: =一括有期事業総括表.算定基礎賃金等の報告!EU114 -> 0 | D13: =一括有期事業総括表.算定基礎賃金等の報告!FF113 -> 0 | E13: =IF(ISBLANK(B13),0,IF(D13=12,C13*365,ROUNDUP(C13*365/12,0)*D13)) -> 0
A14: 10 | B14: =一括有期事業総括表.算定基礎賃金等の報告!DU116 -> 0 | C14: =一括有期事業総括表.算定基礎賃金等の報告!EU117 -> 0 | D14: =一括有期事業総括表.算定基礎賃金等の報告!FF116 -> 0 | E14: =IF(ISBLANK(B14),0,IF(D14=12,C14*365,ROUNDUP(C14*365/12,0)*D14)) -> 0
A15: 11 | B15: =一括有期事業総括表.算定基礎賃金等の報告!DU119 -> 0 | C15: =一括有期事業総括表.算定基礎賃金等の報告!EU120 -> 0 | D15: =一括有期事業総括表.算定基礎賃金等の報告!FF119 -> 0 | E15: =IF(ISBLANK(B15),0,IF(D15=12,C15*365,ROUNDUP(C15*365/12,0)*D15)) -> 0
A16: 12 | B16: =一括有期事業総括表.算定基礎賃金等の報告!DU122 -> 0 | C16: =一括有期事業総括表.算定基礎賃金等の報告!EU123 -> 0 | D16: =一括有期事業総括表.算定基礎賃金等の報告!FF122 -> 0 | E16: =IF(ISBLANK(B16),0,IF(D16=12,C16*365,ROUNDUP(C16*365/12,0)*D16)) -> 0
D17: 計 | E17: =SUM(E5:E16) -> 0
E20: 賃金総額（千円） | G20: 労災保険料率 | I20: 確定保険料
A21: 確定保険料の計算 | E21: =ROUNDDOWN(E17/1000,0) -> 0 | F21: × | H21: ＝ | I21: =E21*G21 -> 0
A25: 概算
A28: № | B28: 特別加入者の 氏名 | C28: 希望する 基礎日額 | D28: 今年度の 適用予定月数 | E28: 保険料算定基礎額
A29: 1 | B29: =一括有期事業総括表.算定基礎賃金等の報告!C113 -> 0 | C29: =一括有期事業総括表.算定基礎賃金等の報告!AN113*100 -> 0 | D29: =一括有期事業総括表.算定基礎賃金等の報告!AI113 -> 0 | E29: =IF(B29=0,0,IF(D29=12,C29*365,ROUNDUP(C29*365/12,0)*D29)) -> 0
A30: 2 | B30: =一括有期事業総括表.算定基礎賃金等の報告!C116 -> 0 | C30: =一括有期事業総括表.算定基礎賃金等の報告!AN116*100 -> 0 | D30: =一括有期事業総括表.算定基礎賃金等の報告!AI116 -> 0 | E30: =IF(ISBLANK(B30),0,IF(D30=12,C30*365,ROUNDUP(C30*365/12,0)*D30)) -> 0
A31: 3 | B31: =一括有期事業総括表.算定基礎賃金等の報告!C119 -> 0 | C31: =一括有期事業総括表.算定基礎賃金等の報告!AN119*100 -> 0 | D31: =一括有期事業総括表.算定基礎賃金等の報告!AI119 -> 0 | E31: =IF(ISBLANK(B31),0,IF(D31=12,C31*365,ROUNDUP(C31*365/12,0)*D31)) -> 0
A32: 4 | B32: =一括有期事業総括表.算定基礎賃金等の報告!C122 -> 0 | C32: =一括有期事業総括表.算定基礎賃金等の報告!AN122*100 -> 0 | D32: =一括有期事業総括表.算定基礎賃金等の報告!AI122 -> 0 | E32: =IF(ISBLANK(B32),0,IF(D32=12,C32*365,ROUNDUP(C32*365/12,0)*D32)) -> 0
A33: 5 | B33: =一括有期事業総括表.算定基礎賃金等の報告!BC113 -> 0 | C33: =一括有期事業総括表.算定基礎賃金等の報告!CZ113*100 -> 0 | D33: =一括有期事業総括表.算定基礎賃金等の報告!CU113 -> 0 | E33: =IF(ISBLANK(B33),0,IF(D33=12,C33*365,ROUNDUP(C33*365/12,0)*D33)) -> 0
A34: 6 | B34: =一括有期事業総括表.算定基礎賃金等の報告!BC116 -> 0 | C34: =一括有期事業総括表.算定基礎賃金等の報告!CZ116*100 -> 0 | D34: =一括有期事業総括表.算定基礎賃金等の報告!CU116 -> 0 | E34: =IF(ISBLANK(B34),0,IF(D34=12,C34*365,ROUNDUP(C34*365/12,0)*D34)) -> 0
A35: 7 | B35: =一括有期事業総括表.算定基礎賃金等の報告!BC119 -> 0 | C35: =一括有期事業総括表.算定基礎賃金等の報告!CZ119*100 -> 0 | D35: =一括有期事業総括表.算定基礎賃金等の報告!CU119 -> 0 | E35: =IF(ISBLANK(B35),0,IF(D35=12,C35*365,ROUNDUP(C35*365/12,0)*D35)) -> 0
A36: 8 | B36: =一括有期事業総括表.算定基礎賃金等の報告!BC122 -> 0 | C36: =一括有期事業総括表.算定基礎賃金等の報告!CZ122*100 -> 0 | D36: =一括有期事業総括表.算定基礎賃金等の報告!CU122 -> 0 | E36: =IF(ISBLANK(B36),0,IF(D36=12,C36*365,ROUNDUP(C36*365/12,0)*D36)) -> 0
A37: 9 | B37: =一括有期事業総括表.算定基礎賃金等の報告!DU113 -> 0 | C37: =一括有期事業総括表.算定基礎賃金等の報告!FL113*100 -> 0 | D37: =一括有期事業総括表.算定基礎賃金等の報告!FI113 -> 0 | E37: =IF(ISBLANK(B37),0,IF(D37=12,C37*365,ROUNDUP(C37*365/12,0)*D37)) -> 0
A38: 10 | B38: =一括有期事業総括表.算定基礎賃金等の報告!DU116 -> 0 | C38: =一括有期事業総括表.算定基礎賃金等の報告!FL116*100 -> 0 | D38: =一括有期事業総括表.算定基礎賃金等の報告!FI116 -> 0 | E38: =IF(ISBLANK(B38),0,IF(D38=12,C38*365,ROUNDUP(C38*365/12,0)*D38)) -> 0
A39: 11 | B39: =一括有期事業総括表.算定基礎賃金等の報告!DU119 -> 0 | C39: =一括有期事業総括表.算定基礎賃金等の報告!FL119*100 -> 0 | D39: =一括有期事業総括表.算定基礎賃金等の報告!FI119 -> 0 | E39: =IF(ISBLANK(B39),0,IF(D39=12,C39*365,ROUNDUP(C39*365/12,0)*D39)) -> 0
A40: 12 | B40: =一括有期事業総括表.算定基礎賃金等の報告!DU122 -> 0 | C40: =一括有期事業総括表.算定基礎賃金等の報告!FL122*100 -> 0 | D40: =一括有期事業総括表.算定基礎賃金等の報告!FI122 -> 0 | E40: =IF(ISBLANK(B40),0,IF(D40=12,C40*365,ROUNDUP(C40*365/12,0)*D40)) -> 0
D41: 計 | E41: =SUM(E29:E40) -> 0
E44: 賃金総額（千円） | G44: 労災保険料率 | I44: 概算保険料
A45: 概算保険料の計算 | E45: =ROUNDDOWN(E41/1000,0) -> 0 | F45: × | H45: ＝ | I45: =E45*G45 -> 0

Sheet 基礎日額と特例額
A1: 給付基礎日額 | B1: 特例による1/12の額
A2: 3500 | B2: 106459
A3: 4000 | B3: 121667
A4: 5000 | B4: 152084
A5: 6000 | B5: 182500
A6: 7000 | B6: 212917
A7: 8000 | B7: 243334
A8: 9000 | B8: 273750
A9: 10000 | B9: 304167
A10: 12000 | B10: 365000
A11: 14000 | B11: 425834
A12: 16000 | B12: 486667
A13: 18000 | B13: 547500
... A17: 25000 | B17: 760417
